Package: VegaMC Version: 3.44.0 Command: /Library/Frameworks/R.framework/Resources/bin/R CMD check --install=check:VegaMC.install-out.txt --library=/Library/Frameworks/R.framework/Resources/library --no-vignettes --timings VegaMC_3.44.0.tar.gz StartedAt: 2025-01-28 11:57:27 -0500 (Tue, 28 Jan 2025) EndedAt: 2025-01-28 12:01:09 -0500 (Tue, 28 Jan 2025) EllapsedTime: 222.1 seconds RetCode: 0 Status: WARNINGS CheckDir: VegaMC.Rcheck Warnings: 2