Package: VegaMC Version: 3.44.0 Command: /Library/Frameworks/R.framework/Resources/bin/R CMD check --install=check:VegaMC.install-out.txt --library=/Library/Frameworks/R.framework/Resources/library --no-vignettes --timings VegaMC_3.44.0.tar.gz StartedAt: 2025-02-05 14:01:51 -0500 (Wed, 05 Feb 2025) EndedAt: 2025-02-05 14:03:47 -0500 (Wed, 05 Feb 2025) EllapsedTime: 116.7 seconds RetCode: 0 Status: WARNINGS CheckDir: VegaMC.Rcheck Warnings: 2