Package: VariantTools Version: 1.48.0 Command: set _R_CHECK_FORCE_SUGGESTS_=0&& F:\biocbuild\bbs-3.20-bioc\R\bin\R.exe CMD check --no-multiarch --install=check:VariantTools.install-out.txt --library=F:\biocbuild\bbs-3.20-bioc\R\library --no-vignettes --timings VariantTools_1.48.0.tar.gz StartedAt: 2025-04-01 07:06:06 -0400 (Tue, 01 Apr 2025) EndedAt: 2025-04-01 07:12:21 -0400 (Tue, 01 Apr 2025) EllapsedTime: 374.9 seconds RetCode: 0 Status: WARNINGS CheckDir: VariantTools.Rcheck Warnings: 2