Package: VariantTools Version: 1.48.0 Command: rm -rf VariantTools.buildbin-libdir && mkdir VariantTools.buildbin-libdir && F:\biocbuild\bbs-3.20-bioc\R\bin\R.exe CMD INSTALL --build --library=VariantTools.buildbin-libdir VariantTools_1.48.0.tar.gz StartedAt: 2025-04-01 09:27:48 -0400 (Tue, 01 Apr 2025) EndedAt: 2025-04-01 09:28:55 -0400 (Tue, 01 Apr 2025) EllapsedTime: 67.0 seconds RetCode: 0 Status: OK PackageFile: VariantTools_1.48.0.zip PackageFileSize: 6.314 MiB