Package: VariantTools Version: 1.48.0 Command: /home/biocbuild/bbs-3.20-bioc/R/bin/R CMD INSTALL VariantTools StartedAt: 2025-01-27 16:16:16 -0500 (Mon, 27 Jan 2025) EndedAt: 2025-01-27 16:17:03 -0500 (Mon, 27 Jan 2025) EllapsedTime: 46.5 seconds RetCode: 0 Status: OK