Package: VariantTools Version: 1.48.0 Command: /Library/Frameworks/R.framework/Resources/bin/R CMD INSTALL VariantTools StartedAt: 2025-03-31 15:38:51 -0400 (Mon, 31 Mar 2025) EndedAt: 2025-03-31 15:40:12 -0400 (Mon, 31 Mar 2025) EllapsedTime: 81.2 seconds RetCode: 0 Status: OK