Package: VariantTools Version: 1.48.0 Command: /Library/Frameworks/R.framework/Resources/bin/R CMD INSTALL VariantTools StartedAt: 2025-01-27 16:21:28 -0500 (Mon, 27 Jan 2025) EndedAt: 2025-01-27 16:22:16 -0500 (Mon, 27 Jan 2025) EllapsedTime: 48.1 seconds RetCode: 0 Status: OK