Package: VariantExperiment Version: 1.20.0 Command: /Library/Frameworks/R.framework/Resources/bin/R CMD build --keep-empty-dirs --no-resave-data VariantExperiment StartedAt: 2025-01-27 23:23:23 -0500 (Mon, 27 Jan 2025) EndedAt: 2025-01-27 23:24:44 -0500 (Mon, 27 Jan 2025) EllapsedTime: 81.2 seconds RetCode: 1 Status: ERROR PackageFile: None PackageFileSize: NA