Package: VariantAnnotation Version: 1.52.0 Command: /home/biocbuild/bbs-3.20-bioc/R/bin/R CMD INSTALL VariantAnnotation StartedAt: 2025-02-13 15:25:51 -0500 (Thu, 13 Feb 2025) EndedAt: 2025-02-13 15:26:59 -0500 (Thu, 13 Feb 2025) EllapsedTime: 67.9 seconds RetCode: 0 Status: OK