Package: VariantAnnotation Version: 1.52.0 Command: /home/biocbuild/bbs-3.20-bioc/R/bin/R CMD build --keep-empty-dirs --no-resave-data --md5 VariantAnnotation StartedAt: 2025-02-13 19:36:50 -0500 (Thu, 13 Feb 2025) EndedAt: 2025-02-13 19:39:20 -0500 (Thu, 13 Feb 2025) EllapsedTime: 150.2 seconds RetCode: 0 Status: OK PackageFile: VariantAnnotation_1.52.0.tar.gz PackageFileSize: 2.047 MiB