Package: VariantAnnotation Version: 1.52.0 Command: /Library/Frameworks/R.framework/Resources/bin/R CMD build --keep-empty-dirs --no-resave-data VariantAnnotation StartedAt: 2025-02-13 22:58:03 -0500 (Thu, 13 Feb 2025) EndedAt: 2025-02-13 23:03:36 -0500 (Thu, 13 Feb 2025) EllapsedTime: 333.0 seconds RetCode: 0 Status: OK PackageFile: VariantAnnotation_1.52.0.tar.gz PackageFileSize: 2.023 MiB