Package: VariantAnnotation Version: 1.52.0 Command: rm -rf VariantAnnotation.buildbin-libdir && mkdir VariantAnnotation.buildbin-libdir && /Users/biocbuild/BBS/utils/build-universal.sh VariantAnnotation_1.52.0.tar.gz /Library/Frameworks/R.framework/Resources/bin/R VariantAnnotation.buildbin-libdir StartedAt: 2024-11-09 17:17:02 -0500 (Sat, 09 Nov 2024) EndedAt: 2024-11-09 17:17:32 -0500 (Sat, 09 Nov 2024) EllapsedTime: 30.5 seconds RetCode: 0 Status: OK PackageFile: VariantAnnotation_1.52.0.tgz PackageFileSize: 4.362 MiB