Package: VariantAnnotation Version: 1.52.0 Command: /Library/Frameworks/R.framework/Resources/bin/R CMD build --keep-empty-dirs --no-resave-data VariantAnnotation StartedAt: 2025-02-04 10:18:46 -0500 (Tue, 04 Feb 2025) EndedAt: 2025-02-04 10:22:24 -0500 (Tue, 04 Feb 2025) EllapsedTime: 218.5 seconds RetCode: 0 Status: OK PackageFile: VariantAnnotation_1.52.0.tar.gz PackageFileSize: 2.023 MiB