Package: VarCon Version: 1.14.0 Command: F:\biocbuild\bbs-3.20-bioc\R\bin\R.exe CMD check --no-multiarch --install=check:VarCon.install-out.txt --library=F:\biocbuild\bbs-3.20-bioc\R\library --no-vignettes --timings VarCon_1.14.0.tar.gz StartedAt: 2025-04-01 07:05:56 -0400 (Tue, 01 Apr 2025) EndedAt: 2025-04-01 07:11:05 -0400 (Tue, 01 Apr 2025) EllapsedTime: 309.3 seconds RetCode: 0 Status: OK CheckDir: VarCon.Rcheck Warnings: 0