Package: VarCon Version: 1.14.0 Command: /home/biocbuild/bbs-3.20-bioc/R/bin/R CMD INSTALL VarCon StartedAt: 2025-01-27 16:25:08 -0500 (Mon, 27 Jan 2025) EndedAt: 2025-01-27 16:25:51 -0500 (Mon, 27 Jan 2025) EllapsedTime: 43.1 seconds RetCode: 0 Status: OK