Package: VarCon Version: 1.14.0 Command: /Library/Frameworks/R.framework/Resources/bin/R CMD INSTALL VarCon StartedAt: 2025-03-31 16:38:10 -0400 (Mon, 31 Mar 2025) EndedAt: 2025-03-31 16:38:55 -0400 (Mon, 31 Mar 2025) EllapsedTime: 44.9 seconds RetCode: 0 Status: OK