Package: VarCon Version: 1.14.0 Command: /Library/Frameworks/R.framework/Resources/bin/R CMD build --keep-empty-dirs --no-resave-data VarCon StartedAt: 2025-04-01 09:45:48 -0400 (Tue, 01 Apr 2025) EndedAt: 2025-04-01 09:46:53 -0400 (Tue, 01 Apr 2025) EllapsedTime: 65.8 seconds RetCode: 0 Status: OK PackageFile: VarCon_1.14.0.tar.gz PackageFileSize: 1.89 MiB