Package: VarCon Version: 1.14.0 Command: rm -rf VarCon.buildbin-libdir && mkdir VarCon.buildbin-libdir && /Users/biocbuild/BBS/utils/build-universal.sh VarCon_1.14.0.tar.gz /Library/Frameworks/R.framework/Resources/bin/R VarCon.buildbin-libdir StartedAt: 2025-01-29 17:01:14 -0500 (Wed, 29 Jan 2025) EndedAt: 2025-01-29 17:02:07 -0500 (Wed, 29 Jan 2025) EllapsedTime: 53.1 seconds RetCode: 0 Status: OK PackageFile: VarCon_1.14.0.tgz PackageFileSize: 2.015 MiB