Package: VanillaICE Version: 1.68.0 Command: F:\biocbuild\bbs-3.20-bioc\R\bin\R.exe CMD check --no-multiarch --install=check:VanillaICE.install-out.txt --library=F:\biocbuild\bbs-3.20-bioc\R\library --no-vignettes --timings VanillaICE_1.68.0.tar.gz StartedAt: 2025-04-01 07:05:33 -0400 (Tue, 01 Apr 2025) EndedAt: 2025-04-01 07:10:48 -0400 (Tue, 01 Apr 2025) EllapsedTime: 314.9 seconds RetCode: 0 Status: OK CheckDir: VanillaICE.Rcheck Warnings: 0