Package: VaSP Version: 1.18.0 Command: /Library/Frameworks/R.framework/Resources/bin/R CMD INSTALL VaSP StartedAt: 2025-01-27 17:28:23 -0500 (Mon, 27 Jan 2025) EndedAt: 2025-01-27 17:29:03 -0500 (Mon, 27 Jan 2025) EllapsedTime: 40.0 seconds RetCode: 0 Status: OK