Package: VERSO Version: 1.16.0 Command: /home/biocbuild/bbs-3.20-bioc/R/bin/R CMD INSTALL VERSO StartedAt: 2025-01-27 16:18:06 -0500 (Mon, 27 Jan 2025) EndedAt: 2025-01-27 16:18:10 -0500 (Mon, 27 Jan 2025) EllapsedTime: 3.6 seconds RetCode: 0 Status: OK