Package: VDJdive Version: 1.8.0 Command: /home/biocbuild/R/R/bin/R CMD INSTALL VDJdive StartedAt: 2025-01-27 21:16:39 -0000 (Mon, 27 Jan 2025) EndedAt: 2025-01-27 21:17:11 -0000 (Mon, 27 Jan 2025) EllapsedTime: 32.3 seconds RetCode: 0 Status: OK