Package: VDJdive Version: 1.8.0 Command: F:\biocbuild\bbs-3.20-bioc\R\bin\R.exe CMD INSTALL VDJdive StartedAt: 2025-02-03 16:30:28 -0500 (Mon, 03 Feb 2025) EndedAt: 2025-02-03 16:31:07 -0500 (Mon, 03 Feb 2025) EllapsedTime: 38.7 seconds RetCode: 0 Status: OK