Package: VDJdive Version: 1.8.0 Command: chmod a+r VDJdive -R && F:\biocbuild\bbs-3.20-bioc\R\bin\R.exe --arch x64 CMD build --keep-empty-dirs --no-resave-data VDJdive StartedAt: 2025-02-03 22:46:09 -0500 (Mon, 03 Feb 2025) EndedAt: 2025-02-03 22:47:10 -0500 (Mon, 03 Feb 2025) EllapsedTime: 60.8 seconds RetCode: 0 Status: OK PackageFile: VDJdive_1.8.0.tar.gz PackageFileSize: 424.9 KiB