Package: VDJdive Version: 1.8.0 Command: /Library/Frameworks/R.framework/Resources/bin/R CMD INSTALL VDJdive StartedAt: 2025-01-27 15:30:34 -0500 (Mon, 27 Jan 2025) EndedAt: 2025-01-27 15:31:28 -0500 (Mon, 27 Jan 2025) EllapsedTime: 54.4 seconds RetCode: 0 Status: OK