Package: VDJdive Version: 1.8.0 Command: /home/biocbuild/R/R/bin/R CMD build --keep-empty-dirs --no-resave-data VDJdive StartedAt: 2024-11-20 04:40:56 -0000 (Wed, 20 Nov 2024) EndedAt: 2024-11-20 04:41:55 -0000 (Wed, 20 Nov 2024) EllapsedTime: 59.1 seconds RetCode: 0 Status: OK PackageFile: VDJdive_1.8.0.tar.gz PackageFileSize: 465.9 KiB