Package: VCFArray Version: 1.22.0 Command: F:\biocbuild\bbs-3.20-bioc\R\bin\R.exe CMD check --no-multiarch --install=check:VCFArray.install-out.txt --library=F:\biocbuild\bbs-3.20-bioc\R\library --no-vignettes --timings VCFArray_1.22.0.tar.gz StartedAt: 2025-02-11 07:20:40 -0500 (Tue, 11 Feb 2025) EndedAt: 2025-02-11 07:26:17 -0500 (Tue, 11 Feb 2025) EllapsedTime: 336.9 seconds RetCode: 0 Status: OK CheckDir: VCFArray.Rcheck Warnings: 0