Package: VCFArray Version: 1.22.0 Command: /home/biocbuild/bbs-3.20-bioc/R/bin/R CMD check --install=check:VCFArray.install-out.txt --library=/home/biocbuild/bbs-3.20-bioc/R/site-library --timings VCFArray_1.22.0.tar.gz StartedAt: 2025-01-28 04:14:55 -0500 (Tue, 28 Jan 2025) EndedAt: 2025-01-28 04:19:59 -0500 (Tue, 28 Jan 2025) EllapsedTime: 304.4 seconds RetCode: 0 Status: OK CheckDir: VCFArray.Rcheck Warnings: 0