Package: VCFArray Version: 1.22.0 Command: /Library/Frameworks/R.framework/Resources/bin/R CMD INSTALL VCFArray StartedAt: 2025-01-27 16:11:57 -0500 (Mon, 27 Jan 2025) EndedAt: 2025-01-27 16:12:47 -0500 (Mon, 27 Jan 2025) EllapsedTime: 50.1 seconds RetCode: 0 Status: OK