Package: VAExprs Version: 1.12.0 Command: /home/biocbuild/R/R/bin/R CMD INSTALL VAExprs StartedAt: 2025-02-03 21:24:45 -0000 (Mon, 03 Feb 2025) EndedAt: 2025-02-03 21:25:25 -0000 (Mon, 03 Feb 2025) EllapsedTime: 40.5 seconds RetCode: 0 Status: OK