Package: VAExprs Version: 1.12.0 Command: /home/biocbuild/R/R/bin/R CMD build --keep-empty-dirs --no-resave-data VAExprs StartedAt: 2025-01-28 04:01:48 -0000 (Tue, 28 Jan 2025) EndedAt: 2025-01-28 04:03:00 -0000 (Tue, 28 Jan 2025) EllapsedTime: 72.0 seconds RetCode: 1 Status: ERROR PackageFile: None PackageFileSize: NA