Package: VAExprs Version: 1.12.0 Command: /home/biocbuild/bbs-3.20-bioc/R/bin/R CMD INSTALL VAExprs StartedAt: 2025-03-31 16:01:44 -0400 (Mon, 31 Mar 2025) EndedAt: 2025-03-31 16:02:16 -0400 (Mon, 31 Mar 2025) EllapsedTime: 32.1 seconds RetCode: 0 Status: OK