Package: VAExprs Version: 1.12.0 Command: /home/biocbuild/bbs-3.20-bioc/R/bin/R CMD build --keep-empty-dirs --no-resave-data --md5 VAExprs StartedAt: 2025-03-31 19:32:58 -0400 (Mon, 31 Mar 2025) EndedAt: 2025-03-31 19:33:33 -0400 (Mon, 31 Mar 2025) EllapsedTime: 34.0 seconds RetCode: 0 Status: OK PackageFile: VAExprs_1.12.0.tar.gz PackageFileSize: 562.4 KiB