Package: VAExprs Version: 1.12.0 Command: /Library/Frameworks/R.framework/Resources/bin/R CMD check --install=check:VAExprs.install-out.txt --library=/Library/Frameworks/R.framework/Resources/library --no-vignettes --timings VAExprs_1.12.0.tar.gz StartedAt: 2025-01-28 11:55:03 -0500 (Tue, 28 Jan 2025) EndedAt: 2025-01-28 12:04:34 -0500 (Tue, 28 Jan 2025) EllapsedTime: 571.5 seconds RetCode: 0 Status: OK CheckDir: VAExprs.Rcheck Warnings: 0