Package: VAExprs Version: 1.12.0 Command: /Library/Frameworks/R.framework/Resources/bin/R CMD build --keep-empty-dirs --no-resave-data VAExprs StartedAt: 2025-03-31 22:46:52 -0400 (Mon, 31 Mar 2025) EndedAt: 2025-03-31 22:51:37 -0400 (Mon, 31 Mar 2025) EllapsedTime: 284.5 seconds RetCode: 0 Status: OK PackageFile: VAExprs_1.12.0.tar.gz PackageFileSize: 2.231 MiB