Package: VAExprs Version: 1.12.0 Command: /Library/Frameworks/R.framework/Resources/bin/R CMD check --install=check:VAExprs.install-out.txt --library=/Library/Frameworks/R.framework/Resources/library --no-vignettes --timings VAExprs_1.12.0.tar.gz StartedAt: 2025-01-29 12:41:17 -0500 (Wed, 29 Jan 2025) EndedAt: 2025-01-29 12:46:01 -0500 (Wed, 29 Jan 2025) EllapsedTime: 283.5 seconds RetCode: 0 Status: OK CheckDir: VAExprs.Rcheck Warnings: 0