Package: VAExprs Version: 1.12.0 Command: /Library/Frameworks/R.framework/Resources/bin/R CMD build --keep-empty-dirs --no-resave-data VAExprs StartedAt: 2025-04-01 09:44:55 -0400 (Tue, 01 Apr 2025) EndedAt: 2025-04-01 09:45:48 -0400 (Tue, 01 Apr 2025) EllapsedTime: 52.2 seconds RetCode: 0 Status: OK PackageFile: VAExprs_1.12.0.tar.gz PackageFileSize: 561.7 KiB