Package: Uniquorn Version: 2.26.0 Command: rm -rf Uniquorn.buildbin-libdir && mkdir Uniquorn.buildbin-libdir && F:\biocbuild\bbs-3.20-bioc\R\bin\R.exe CMD INSTALL --build --library=Uniquorn.buildbin-libdir Uniquorn_2.26.0.tar.gz StartedAt: 2025-01-28 09:22:24 -0500 (Tue, 28 Jan 2025) EndedAt: 2025-01-28 09:23:17 -0500 (Tue, 28 Jan 2025) EllapsedTime: 53.0 seconds RetCode: 0 Status: OK PackageFile: Uniquorn_2.26.0.zip PackageFileSize: 2.275 MiB