Package: Uniquorn Version: 2.26.0 Command: /home/biocbuild/bbs-3.20-bioc/R/bin/R CMD INSTALL Uniquorn StartedAt: 2025-02-03 15:33:18 -0500 (Mon, 03 Feb 2025) EndedAt: 2025-02-03 15:34:00 -0500 (Mon, 03 Feb 2025) EllapsedTime: 41.7 seconds RetCode: 0 Status: OK