Package: Uniquorn Version: 2.26.0 Command: /Library/Frameworks/R.framework/Resources/bin/R CMD check --install=check:Uniquorn.install-out.txt --library=/Library/Frameworks/R.framework/Resources/library --no-vignettes --timings Uniquorn_2.26.0.tar.gz StartedAt: 2025-04-02 12:18:17 -0400 (Wed, 02 Apr 2025) EndedAt: 2025-04-02 12:23:39 -0400 (Wed, 02 Apr 2025) EllapsedTime: 322.6 seconds RetCode: 0 Status: OK CheckDir: Uniquorn.Rcheck Warnings: 0