Package: Uniquorn Version: 2.26.0 Command: /Library/Frameworks/R.framework/Resources/bin/R CMD build --keep-empty-dirs --no-resave-data Uniquorn StartedAt: 2025-04-01 09:43:30 -0400 (Tue, 01 Apr 2025) EndedAt: 2025-04-01 09:44:21 -0400 (Tue, 01 Apr 2025) EllapsedTime: 51.3 seconds RetCode: 0 Status: OK PackageFile: Uniquorn_2.26.0.tar.gz PackageFileSize: 2.196 MiB