Package: Ularcirc Version: 1.24.0 Command: /home/biocbuild/R/R/bin/R CMD build --keep-empty-dirs --no-resave-data Ularcirc StartedAt: 2025-02-04 03:44:52 -0000 (Tue, 04 Feb 2025) EndedAt: 2025-02-04 03:45:13 -0000 (Tue, 04 Feb 2025) EllapsedTime: 21.0 seconds RetCode: 0 Status: OK PackageFile: Ularcirc_1.24.0.tar.gz PackageFileSize: 5.237 MiB