Package: Ularcirc Version: 1.24.0 Command: F:\biocbuild\bbs-3.20-bioc\R\bin\R.exe CMD INSTALL Ularcirc StartedAt: 2025-03-31 16:13:06 -0400 (Mon, 31 Mar 2025) EndedAt: 2025-03-31 16:13:25 -0400 (Mon, 31 Mar 2025) EllapsedTime: 18.9 seconds RetCode: 0 Status: OK