Package: Ularcirc Version: 1.24.0 Command: F:\biocbuild\bbs-3.20-bioc\R\bin\R.exe CMD check --no-multiarch --install=check:Ularcirc.install-out.txt --library=F:\biocbuild\bbs-3.20-bioc\R\library --no-vignettes --timings Ularcirc_1.24.0.tar.gz StartedAt: 2025-04-01 07:03:48 -0400 (Tue, 01 Apr 2025) EndedAt: 2025-04-01 07:06:04 -0400 (Tue, 01 Apr 2025) EllapsedTime: 136.5 seconds RetCode: 0 Status: WARNINGS CheckDir: Ularcirc.Rcheck Warnings: 1