Package: Ularcirc Version: 1.24.0 Command: /Library/Frameworks/R.framework/Resources/bin/R CMD build --keep-empty-dirs --no-resave-data Ularcirc StartedAt: 2025-03-31 22:45:26 -0400 (Mon, 31 Mar 2025) EndedAt: 2025-03-31 22:45:55 -0400 (Mon, 31 Mar 2025) EllapsedTime: 28.9 seconds RetCode: 0 Status: OK PackageFile: Ularcirc_1.24.0.tar.gz PackageFileSize: 5.214 MiB