Package: Ularcirc Version: 1.24.0 Command: /Library/Frameworks/R.framework/Resources/bin/R CMD build --keep-empty-dirs --no-resave-data Ularcirc StartedAt: 2025-04-01 09:41:50 -0400 (Tue, 01 Apr 2025) EndedAt: 2025-04-01 09:42:07 -0400 (Tue, 01 Apr 2025) EllapsedTime: 17.2 seconds RetCode: 0 Status: OK PackageFile: Ularcirc_1.24.0.tar.gz PackageFileSize: 5.214 MiB