Package: UPDhmm Version: 1.2.0 Command: /Library/Frameworks/R.framework/Resources/bin/R CMD build --keep-empty-dirs --no-resave-data UPDhmm StartedAt: 2025-03-31 22:46:34 -0400 (Mon, 31 Mar 2025) EndedAt: 2025-03-31 22:47:22 -0400 (Mon, 31 Mar 2025) EllapsedTime: 48.5 seconds RetCode: 1 Status: ERROR PackageFile: None PackageFileSize: NA