Package: UNDO Version: 1.48.0 Command: /home/biocbuild/R/R/bin/R CMD INSTALL UNDO StartedAt: 2025-01-30 20:06:36 -0000 (Thu, 30 Jan 2025) EndedAt: 2025-01-30 20:06:57 -0000 (Thu, 30 Jan 2025) EllapsedTime: 21.2 seconds RetCode: 0 Status: OK