Package: UNDO Version: 1.48.0 Command: /home/biocbuild/R/R/bin/R CMD check --install=check:UNDO.install-out.txt --library=/home/biocbuild/R/R/site-library --no-vignettes --timings UNDO_1.48.0.tar.gz StartedAt: 2025-01-31 11:21:09 -0000 (Fri, 31 Jan 2025) EndedAt: 2025-01-31 11:21:40 -0000 (Fri, 31 Jan 2025) EllapsedTime: 31.0 seconds RetCode: 0 Status: OK CheckDir: UNDO.Rcheck Warnings: 0