Package: UNDO Version: 1.48.0 Command: chmod a+r UNDO -R && F:\biocbuild\bbs-3.20-bioc\R\bin\R.exe CMD build --keep-empty-dirs --no-resave-data UNDO StartedAt: 2025-03-31 22:30:39 -0400 (Mon, 31 Mar 2025) EndedAt: 2025-03-31 22:30:56 -0400 (Mon, 31 Mar 2025) EllapsedTime: 17.3 seconds RetCode: 0 Status: OK PackageFile: UNDO_1.48.0.tar.gz PackageFileSize: 2.784 MiB